BEGIN:VCALENDAR
VERSION:2.0
PRODID:-//Breathe with Dominic – Deep Breathwork &amp; Transformation - ECPv6.15.20//NONSGML v1.0//EN
CALSCALE:GREGORIAN
METHOD:PUBLISH
X-WR-CALNAME:Breathe with Dominic – Deep Breathwork &amp; Transformation
X-ORIGINAL-URL:https://www.dominiclevien.com
X-WR-CALDESC:Events for Breathe with Dominic – Deep Breathwork &amp; Transformation
REFRESH-INTERVAL;VALUE=DURATION:PT1H
X-Robots-Tag:noindex
X-PUBLISHED-TTL:PT1H
BEGIN:VTIMEZONE
TZID:Europe/Madrid
BEGIN:DAYLIGHT
TZOFFSETFROM:+0100
TZOFFSETTO:+0200
TZNAME:CEST
DTSTART:20240331T010000
END:DAYLIGHT
BEGIN:STANDARD
TZOFFSETFROM:+0200
TZOFFSETTO:+0100
TZNAME:CET
DTSTART:20241027T010000
END:STANDARD
BEGIN:DAYLIGHT
TZOFFSETFROM:+0100
TZOFFSETTO:+0200
TZNAME:CEST
DTSTART:20250330T010000
END:DAYLIGHT
BEGIN:STANDARD
TZOFFSETFROM:+0200
TZOFFSETTO:+0100
TZNAME:CET
DTSTART:20251026T010000
END:STANDARD
BEGIN:DAYLIGHT
TZOFFSETFROM:+0100
TZOFFSETTO:+0200
TZNAME:CEST
DTSTART:20260329T010000
END:DAYLIGHT
BEGIN:STANDARD
TZOFFSETFROM:+0200
TZOFFSETTO:+0100
TZNAME:CET
DTSTART:20261025T010000
END:STANDARD
BEGIN:DAYLIGHT
TZOFFSETFROM:+0100
TZOFFSETTO:+0200
TZNAME:CEST
DTSTART:20270328T010000
END:DAYLIGHT
BEGIN:STANDARD
TZOFFSETFROM:+0200
TZOFFSETTO:+0100
TZNAME:CET
DTSTART:20271031T010000
END:STANDARD
END:VTIMEZONE
BEGIN:VEVENT
DTSTART;TZID=Europe/Madrid:20260330T190000
DTEND;TZID=Europe/Madrid:20260330T203000
DTSTAMP:20260419T181219
CREATED:20260307T180135Z
LAST-MODIFIED:20260314T073749Z
UID:10000015-1774897200-1774902600@www.dominiclevien.com
SUMMARY:Breath & Happiness - 5 week online course
DESCRIPTION:Ticket for the 5 week online course Breath and Happiness including access to recorded sessions and extra breathwork sessions
URL:https://www.dominiclevien.com/event/breath-happiness-5-week-online-course/2026-03-30/
CATEGORIES:Online Breathwork,Online Course
ATTACH;FMTTYPE=image/jpeg:https://www.dominiclevien.com/wp-content/uploads/2026/03/6ff726796b6d39f6736ee9e49c6b2703a4eefda1471ce2c7f7013b4874c3048f-Medium.jpeg
LOCATION:https://www.dominiclevien.com/event/breath-happiness-5-week-online-course/2026-03-30/
END:VEVENT
BEGIN:VEVENT
DTSTART;TZID=Europe/Madrid:20260323T190000
DTEND;TZID=Europe/Madrid:20260323T203000
DTSTAMP:20260419T181219
CREATED:20260307T180135Z
LAST-MODIFIED:20260314T073749Z
UID:10000014-1774292400-1774297800@www.dominiclevien.com
SUMMARY:Breath & Happiness - 5 week online course
DESCRIPTION:Ticket for the 5 week online course Breath and Happiness including access to recorded sessions and extra breathwork sessions
URL:https://www.dominiclevien.com/event/breath-happiness-5-week-online-course/2026-03-23/
CATEGORIES:Online Breathwork,Online Course
ATTACH;FMTTYPE=image/jpeg:https://www.dominiclevien.com/wp-content/uploads/2026/03/6ff726796b6d39f6736ee9e49c6b2703a4eefda1471ce2c7f7013b4874c3048f-Medium.jpeg
LOCATION:https://www.dominiclevien.com/event/breath-happiness-5-week-online-course/2026-03-23/
END:VEVENT
BEGIN:VEVENT
DTSTART;TZID=Europe/Madrid:20251220T193000
DTEND;TZID=Europe/Madrid:20251220T210000
DTSTAMP:20260419T181219
CREATED:20251201T170649Z
LAST-MODIFIED:20251201T170649Z
UID:10000004-1766259000-1766264400@www.dominiclevien.com
SUMMARY:Masterclass - The Power of Your Breath
DESCRIPTION:Learn how your breath is shaping your mind and body every moment.\nThis masterclass is an invitation to understand that power and use it with intention. \nTHE POWER OF YOUR BREATH — A 2-Hour Masterclass \nWe tend to think of breath as something simple — automatic\, background\, almost unremarkable. But the moment you start paying attention\, you realise it’s doing far more than keeping you alive. \nWith every inhale and exhale\, your nervous system shifts.\nCO₂ levels adjust.\npH changes.\nYour heart rhythm recalibrates.\nHormones like dopamine\, serotonin\, and oxytocin rise and fall.\nThe body is constantly listening to the breath\, responding to it\, reorganising itself around it. \nAnd this isn’t new knowledge. Long before science had names for any of this\, ancient traditions treated the breath as a bridge between worlds — the physical\, the emotional\, the intuitive. Yogis\, mystics\, monks\, priestesses… they all understood the breath as a kind of inner technology\, something that could steady the mind\, open the heart\, and shift perception. \nPerhaps you feel that inside you\, there is already a part that knows this. The part that’s been quietly gathering experiences\, noticing patterns\, sensing that there is more to life\, that it could feel clearer or more grounded or even more vibrant and full of inspiration\, if you had the right tools and a bit of space to explore. This masterclass gives that part of you a chance to step forward\, to learn\, to understand your own system in a way that supports the life you’re trying to build. \nIn this session\, we’ll explore both sides of this — the modern understanding of how breath shapes the brain and body\, and the older\, knowledge that the breath can reveal parts of ourselves we normally don’t hear under the noise of everyday life. \nWhat you will learn \n\nHow breathing patterns influence your energy\, focus\, and emotional tone\nCO₂ tolerance\, oxygen efficiency\, and the nervous system\nKey neurochemicals linked to calm\, clarity\, and connection\nThe role of breath in ancient practices and why it mattered\nA practical map for working with the breath on physical\, emotional\, and deeper levels\nA guided SOMA-style journey to bring everything together\n\nThis masterclass is for people who appreciate nuance — people who want to understand\, feel\, and explore without being pushed into belief systems or boxes. \nWe will be doing this vis Zoom so I advise using good headphones. Find a place where you can sit upright and which the masterclass and also lie down if you want to for the short practice sessions.
URL:https://www.dominiclevien.com/event/masterclass-the-power-of-your-breath-2/
CATEGORIES:Masterclass
ATTACH;FMTTYPE=image/jpeg:https://www.dominiclevien.com/wp-content/uploads/2025/12/IMG_0859.jpeg
LOCATION:https://us06web.zoom.us/j/86110293372
END:VEVENT
BEGIN:VEVENT
DTSTART;TZID=Europe/Madrid:20251213T193000
DTEND;TZID=Europe/Madrid:20251213T210000
DTSTAMP:20260419T181219
CREATED:20251201T164318Z
LAST-MODIFIED:20251213T122745Z
UID:10000002-1765654200-1765659600@www.dominiclevien.com
SUMMARY:Masterclass - The Power of Your Breath
DESCRIPTION:Learn how your breath is shaping your mind and body every moment.\nThis masterclass is an invitation to understand that power and use it with intention. \nTHE POWER OF YOUR BREATH — A 2-Hour Masterclass \nWe tend to think of breath as something simple — automatic\, background\, almost unremarkable. But the moment you start paying attention\, you realise it’s doing far more than keeping you alive. \nWith every inhale and exhale\, your nervous system shifts.\nCO₂ levels adjust.\npH changes.\nYour heart rhythm recalibrates.\nHormones like dopamine\, serotonin\, and oxytocin rise and fall.\nThe body is constantly listening to the breath\, responding to it\, reorganising itself around it. \nAnd this isn’t new knowledge. Long before science had names for any of this\, ancient traditions treated the breath as a bridge between worlds — the physical\, the emotional\, the intuitive. Yogis\, mystics\, monks\, priestesses… they all understood the breath as a kind of inner technology\, something that could steady the mind\, open the heart\, and shift perception. \nPerhaps you feel that inside you\, there is already a part that knows this. The part that’s been quietly gathering experiences\, noticing patterns\, sensing that there is more to life\, that it could feel clearer or more grounded or even more vibrant and full of inspiration\, if you had the right tools and a bit of space to explore. This masterclass gives that part of you a chance to step forward\, to learn\, to understand your own system in a way that supports the life you’re trying to build. \nIn this session\, we’ll explore both sides of this — the modern understanding of how breath shapes the brain and body\, and the older\, knowledge that the breath can reveal parts of ourselves we normally don’t hear under the noise of everyday life. \nWhat you will learn \n\nHow breathing patterns influence your energy\, focus\, and emotional tone\nCO₂ tolerance\, oxygen efficiency\, and the nervous system\nKey neurochemicals linked to calm\, clarity\, and connection\nThe role of breath in ancient practices and why it mattered\nA practical map for working with the breath on physical\, emotional\, and deeper levels\nA guided SOMA-style journey to bring everything together\n\nThis masterclass is for people who appreciate nuance — people who want to understand\, feel\, and explore without being pushed into belief systems or boxes. \nWe will be doing this vis Zoom so I advise using good headphones. Find a place where you can sit upright and which the masterclass and also lie down if you want to for the short practice sessions.
URL:https://www.dominiclevien.com/event/masterclass-the-power-of-your-breath/
CATEGORIES:Masterclass
ATTACH;FMTTYPE=image/jpeg:https://www.dominiclevien.com/wp-content/uploads/2025/12/IMG_0859.jpeg
LOCATION:https://www.dominiclevien.com/event/masterclass-the-power-of-your-breath/
END:VEVENT
BEGIN:VEVENT
DTSTART;TZID=Europe/Madrid:20251206T190000
DTEND;TZID=Europe/Madrid:20251206T210000
DTSTAMP:20260419T181219
CREATED:20251130T163015Z
LAST-MODIFIED:20251203T194649Z
UID:10000001-1765047600-1765054800@www.dominiclevien.com
SUMMARY:Golden Ancestral Threads – Breathwork Journey
DESCRIPTION:Breath Journey – Golden Ancestral Thread \nA 90-minute online journey into the deep roots of your being. \nWhat I love about this journey —and what many of you have shared with me as well—is that it opens a space to feel the magic of the world. To connect to and believe\, even just for a moment\, that we are more than this physical husk.\nThat there is deep wisdom in things.\nThat knowledge and connection can move through us in ways that go beyond words. \nMany of us sense there’s something missing—\nnot just personally\, but collectively.\nA kind of remembering that hasn’t happened yet.\nA thread we’ve dropped\, but not lost. \nThis session is a space to follow that thread.\nTo slow down.\nTo breathe.\nAnd to reconnect with something ancient and alive within you.\n———- \nWe begin the session by using our breath to drop into a deep parasympathetic state\, where that breath becomes a bridge between worlds. \nFrom there we will begin a guided journey into the distant ancestral wisdom that is carried in our genes and in the particles floating through us when we breath.\n——\nThere is knowledge carried in your cells.\nWisdom not passed through words\,\nbut through rhythm\, sensation\, and silence and through epigenetic transmition. \nThis session is an invitation to remember.\nTo reconnect with the quiet intelligence of your lineage—\nmystics\, healers\, artists\, wild ones—\nthose who lived close to the earth\,\nwho moved with the moon\,\nwho lived in deep relationship with life. \nAnd beyond that…\na remembering of something older still—\na time when knowledge was embodied\,\nwhen breath\, sound\, and ritual held the codes of how to live well.\nA time when priestesses tended the sacred\,\nand wisdom was passed through presence and direct experience. \nWe breathe to receive what still lives in us:\nclarity\, rhythm\, focus\, connection—\nand the deep knowing of what truly matters. \nHow to live in balance.\nWhat to leave behind\, let go of.\nWhat to give yourself to. \nThrough breath\, we awaken these threads.\nNot by digging in the past or diving into pain\,\nbut by opening to the beauty and strength that was never lost—only waiting. \nSome patterns may soften.\nSome memories may stir.\nAnd something new may begin to move through you. \nNo experience needed.\nJust your breath\, your presence\, and a willingness to listen. \nFor the best experience\, use good headphones or high-quality speakers.\n— Dominic
URL:https://www.dominiclevien.com/event/golden-ancestral-threads-breathwork-journey/
CATEGORIES:Online Breathwork
ATTACH;FMTTYPE=image/jpeg:https://www.dominiclevien.com/wp-content/uploads/2025/11/IMG_0842.jpeg
LOCATION:https://www.dominiclevien.com/event/golden-ancestral-threads-breathwork-journey/
END:VEVENT
END:VCALENDAR